BEGIN:VCALENDAR
VERSION:2.0
PRODID:-//Tukios.com/
BEGIN:VEVENT
UID:c845e171-953d-4098-b4bc-3893693f4d47@www.huberfuneralhome.net
DTSTAMP:20260420T224432Z
DTSTART:20260422T150000Z
DTEND:20260422T180000Z
SUMMARY:Visitation
DESCRIPTION:
URL:https://www.huberfuneralhome.net/obituaries/carol-mills
LOCATION:Deer Creek Baptist Church 6733 Alamo Road  Tell City IN 47586
GEO:38.0130722;-86.6838405
END:VEVENT
END:VCALENDAR