BEGIN:VCALENDAR
VERSION:2.0
PRODID:-//Tukios.com/
BEGIN:VEVENT
UID:c08fa12c-270c-4e59-9d86-54d5c5fe9748@www.huberfuneralhome.net
DTSTAMP:20260420T224308Z
DTSTART:20260422T180000Z
DTEND:20260422T190000Z
SUMMARY:Funeral Service
DESCRIPTION:
URL:https://www.huberfuneralhome.net/obituaries/carol-mills
LOCATION:Deer Creek Baptist Church 6733 Alamo Road  Tell City IN 47586
GEO:38.0130722;-86.6838405
END:VEVENT
END:VCALENDAR