BEGIN:VCALENDAR
VERSION:2.0
PRODID:-//Tukios.com/
BEGIN:VEVENT
UID:e04b0787-eed4-48fd-9dde-6a1b36102c16@www.huberfuneralhome.net
DTSTAMP:20260422T000104Z
DTSTART:20260424T000000Z
DTEND:20260424T010000Z
SUMMARY:Funeral Service
DESCRIPTION:
URL:https://www.huberfuneralhome.net/obituaries/colton-thompson
LOCATION:Huber Funeral Home, Tell City Chapel 1139 12th Street  Tell City 
	IN 47586
GEO:37.9580105;-86.7648872
END:VEVENT
END:VCALENDAR