BEGIN:VCALENDAR
VERSION:2.0
PRODID:-//Tukios.com/
BEGIN:VEVENT
UID:7183837c-f4b5-4d4a-94df-8f891dedd2eb@www.huberfuneralhome.net
DTSTAMP:20260421T235925Z
DTSTART:20260423T200000Z
DTEND:20260424T000000Z
SUMMARY:Visitation
DESCRIPTION:
URL:https://www.huberfuneralhome.net/obituaries/colton-thompson
LOCATION:Huber Funeral Home, Tell City Chapel 1139 12th Street  Tell City 
	IN 47586
GEO:37.9580105;-86.7648872
END:VEVENT
END:VCALENDAR