BEGIN:VCALENDAR
VERSION:2.0
PRODID:-//Tukios.com/
BEGIN:VEVENT
UID:2dd8bde7-6ed8-4290-9cdc-550691679a49@www.huberfuneralhome.net
DTSTAMP:20260421T000159Z
DTSTART:20260425T150000Z
DTEND:20260425T180000Z
SUMMARY:Visitation
DESCRIPTION:
URL:https://www.huberfuneralhome.net/obituaries/franklin-weatherholt
LOCATION:Huber Funeral Home, Tell City Chapel 1139 12th Street  Tell City 
	IN 47586
GEO:37.9580105;-86.7648872
END:VEVENT
END:VCALENDAR