BEGIN:VCALENDAR
VERSION:2.0
PRODID:-//Tukios.com/
BEGIN:VEVENT
UID:71847879-c1ce-469b-804e-f454d034c017@www.huberfuneralhome.net
DTSTAMP:20260421T000500Z
DTSTART:20260425T180000Z
DTEND:20260425T190000Z
SUMMARY:Funeral Service
DESCRIPTION:
URL:https://www.huberfuneralhome.net/obituaries/franklin-weatherholt
LOCATION:Huber Funeral Home, Tell City Chapel 1139 12th Street  Tell City 
	IN 47586
GEO:37.9580105;-86.7648872
END:VEVENT
END:VCALENDAR