BEGIN:VCALENDAR
VERSION:2.0
PRODID:-//Tukios.com/
BEGIN:VEVENT
UID:bd18dad5-af70-4392-86f4-d9223ce50506@www.huberfuneralhome.net
DTSTAMP:20260421T000026Z
DTSTART:20260425
SUMMARY:Burial
DESCRIPTION:
URL:https://www.huberfuneralhome.net/obituaries/franklin-weatherholt
LOCATION:  Indiana 37  Tell City IN 
GEO:37.9655038;-86.7449109
END:VEVENT
END:VCALENDAR